BEGIN:VCALENDAR
VERSION:2.0
PRODID:-//SSB LLC | Samuel, Sayward, &amp; Baler LLC | Dedham, MA lawyers - ECPv6.15.20//NONSGML v1.0//EN
CALSCALE:GREGORIAN
METHOD:PUBLISH
X-WR-CALNAME:SSB LLC | Samuel, Sayward, &amp; Baler LLC | Dedham, MA lawyers
X-ORIGINAL-URL:https://ssbllc.com
X-WR-CALDESC:Events for SSB LLC | Samuel, Sayward, &amp; Baler LLC | Dedham, MA lawyers
REFRESH-INTERVAL;VALUE=DURATION:PT1H
X-Robots-Tag:noindex
X-PUBLISHED-TTL:PT1H
BEGIN:VTIMEZONE
TZID:America/New_York
BEGIN:DAYLIGHT
TZOFFSETFROM:-0500
TZOFFSETTO:-0400
TZNAME:EDT
DTSTART:20250309T070000
END:DAYLIGHT
BEGIN:STANDARD
TZOFFSETFROM:-0400
TZOFFSETTO:-0500
TZNAME:EST
DTSTART:20251102T060000
END:STANDARD
BEGIN:DAYLIGHT
TZOFFSETFROM:-0500
TZOFFSETTO:-0400
TZNAME:EDT
DTSTART:20260308T070000
END:DAYLIGHT
BEGIN:STANDARD
TZOFFSETFROM:-0400
TZOFFSETTO:-0500
TZNAME:EST
DTSTART:20261101T060000
END:STANDARD
BEGIN:DAYLIGHT
TZOFFSETFROM:-0500
TZOFFSETTO:-0400
TZNAME:EDT
DTSTART:20270314T070000
END:DAYLIGHT
BEGIN:STANDARD
TZOFFSETFROM:-0400
TZOFFSETTO:-0500
TZNAME:EST
DTSTART:20271107T060000
END:STANDARD
END:VTIMEZONE
BEGIN:VEVENT
DTSTART;TZID=America/New_York:20260421T153000
DTEND;TZID=America/New_York:20260421T170000
DTSTAMP:20260421T030309
CREATED:20260320T143326Z
LAST-MODIFIED:20260320T143822Z
UID:5762-1776785400-1776790800@ssbllc.com
SUMMARY:Estate Planning for Aging Parents Seminar
DESCRIPTION:Join Samuel\, Sayward & Baler\, LLC and Attorney Leah Kofos\, Esq. on April 21\, 2026 for an informative seminar on estate planning for aging parents. This event will cover important topics including planning for future incapacity\, understanding probate and how to avoid it\, and the differences between wills and trusts. Guests are invited to enjoy appetizers at 3:30 PM\, followed by the seminar from 4:00 to 5:00 PM at Charter Senior Living of Dedham\, 391 Common Street\, Dedham\, MA 02026. Please RSVP by April 18 by calling 781-407-7711 or emailing marketing1@charterofdedham.com.
URL:https://ssbllc.com/event/estate-planning-for-aging-parents-seminar/
LOCATION:Charter Senior Living\, 391 Common Street\, Dedham\, MA\, 02026\, United States
ORGANIZER;CN="Attorney Leah Kofos":MAILTO:Kofos@ssbllc.com
END:VEVENT
END:VCALENDAR